BEGIN:VCALENDAR
VERSION:2.0
PRODID:-//destination.one//NONSGML destination.meta API//DE
X-WR-CALDESC:A calendar powered by destination.meta
X-WR-CALNAME:stadt-scheinfeld Kalender via destination.meta
BEGIN:VEVENT
CATEGORIES:Kirche
CATEGORIES:Konzert
CATEGORIES:Regionale Spezialitäten
DESCRIPTION:\n\nmehr Informationen unter http://pages.destination.one/de/st
 adt-scheinfeld/streaming/detail/Event/e_101259331/gottesdienst-an-christi-
 himmelfahrt
DTEND;TZID=Europe/Berlin:20260514T235900
DTSTAMP:20260422T115912Z
DTSTART;TZID=Europe/Berlin:20260514T110000
GEO:49.682291;10.444895
LOCATION:Freizeitgelände Schnodsenbach\, Schnodsenbach\, Scheinfeld
ORGANIZER;CN=Evang.-Luth. Kirchengemeinde Schnodsenbach-Scheinfeld:mailto:p
 farramt.scheinfeld@elkb.de
SEQUENCE:0
SUMMARY:Gottesdienst an Christi Himmelfahrt
UID:e_101259331_iv0
URL:http://pages.destination.one/de/stadt-scheinfeld/streaming/detail/Event
 /e_101259331/gottesdienst-an-christi-himmelfahrt
END:VEVENT
BEGIN:VTIMEZONE
TZID:Europe/Berlin
X-LIC-LOCATION:Europe/Berlin
BEGIN:DAYLIGHT
DTSTART:19700329T020000
RRULE:FREQ=YEARLY;BYDAY=-1SU;BYMONTH=3
TZNAME:CEST
TZOFFSETFROM:+0100
TZOFFSETTO:+0200
END:DAYLIGHT
BEGIN:STANDARD
DTSTART:19701025T030000
RRULE:FREQ=YEARLY;BYDAY=-1SU;BYMONTH=10
TZNAME:CET
TZOFFSETFROM:+0200
TZOFFSETTO:+0100
END:STANDARD
END:VTIMEZONE
END:VCALENDAR
